BEGIN:VCALENDAR
VERSION:2.0
PRODID:-//Tukios.com/
BEGIN:VEVENT
UID:31087526-e59a-4a9f-9e47-a7618d7d031b@www.fletcherdayfuneralhome.com
DTSTAMP:20260420T202705Z
DTSTART:20260422
SUMMARY:Interment
DESCRIPTION:
URL:https://www.fletcherdayfuneralhome.com/obituaries/mr-randall-butler
LOCATION:Northside Cemetery 288 Ash Branch Road  Pembroke GA 31321
GEO:32.143889;-81.6208717
END:VEVENT
END:VCALENDAR