BEGIN:VCALENDAR
VERSION:2.0
PRODID:-//Tukios.com/
BEGIN:VEVENT
UID:1524b7ce-d702-48d1-9534-76e2f959f7f9@www.fletcherdayfuneralhome.com
DTSTAMP:20260420T202745Z
DTSTART:20260422T170000Z
DTEND:20260422T180000Z
SUMMARY:Funeral Service
DESCRIPTION:
URL:https://www.fletcherdayfuneralhome.com/obituaries/mr-randall-butler
LOCATION:Flanders Powell Funeral Home 197 South College Street  Pembroke 
	GA 31321
GEO:32.1327852;-81.6215961
END:VEVENT
END:VCALENDAR