BEGIN:VCALENDAR
VERSION:2.0
PRODID:-//Tukios.com/
BEGIN:VEVENT
UID:20a547f7-a727-4b5a-a6ed-b2732a5e8a20@www.fletcherdayfuneralhome.com
DTSTAMP:20260420T203428Z
DTSTART:20260421T220000Z
DTEND:20260422T000000Z
SUMMARY:Visitation
DESCRIPTION:
URL:https://www.fletcherdayfuneralhome.com/obituaries/mr-randall-butler
LOCATION:Flanders Powell Funeral Home 197 South College Street  Pembroke 
	GA 31321
GEO:32.1327852;-81.6215961
END:VEVENT
END:VCALENDAR